BEGIN:VCALENDAR
VERSION:2.0
PRODID:SchoolNow
CALSCALE:GREGORIAN
BEGIN:VEVENT
UID:4794b44a-8d65-11ef-b3bd-0a58a9feac02
DTSTAMP:20250702T192544Z
SUMMARY:CDD Board Meeting - Jul. 2025
LOCATION:The Touchstone Clubhouse located 4205 Wild Senna Blvd\, Tampa\, Fl
  33619
URL;VALUE=URI:https://www.touchstonecdd.com/calendar/6850484/cdd-board-meet
 ing-jul-2025
DTSTART:20250708T120000Z
DTEND:20250708T130000Z
ATTACH;FILENAME=2025-07-08 Touchstone Agenda Package (final).pdf;FMTTYPE=ap
 plication/pdf:https://campussuite-storage.s3.amazonaws.com/prod/1559236/3b
 4ad74a-8a5f-11ef-a2ac-0ef4d51c0acb/2977946/54e0da72-577a-11f0-b246-0e8e356
 708a9/file/2025-07-08 Touchstone Agenda Package (final).pdf
END:VEVENT
END:VCALENDAR
