BEGIN:VCALENDAR
VERSION:2.0
PRODID:SchoolNow
CALSCALE:GREGORIAN
BEGIN:VEVENT
UID:689a7e0e-8d65-11ef-8315-0ee6a69b9005
DTSTAMP:20250811T194024Z
SUMMARY:CDD Board Meeting - Aug. 2025
LOCATION:The Touchstone Clubhouse located 4205 Wild Senna Blvd\, Tampa\, Fl
  33619
URL;VALUE=URI:https://www.touchstonecdd.com/calendar/6850486/cdd-board-meet
 ing-aug-2025
DTSTART:20250812T120000Z
DTEND:20250812T130000Z
ATTACH;FILENAME=2025-08-12 Touchstone Revised Agenda Package final.pdf;FMTT
 YPE=application/pdf:https://campussuite-storage.s3.amazonaws.com/prod/1559
 236/3b4ad74a-8a5f-11ef-a2ac-0ef4d51c0acb/2991117/0129d8ee-76eb-11f0-a253-0
 a58a9feac02/file/2025-08-12 Touchstone Revised Agenda Package final.pdf
END:VEVENT
END:VCALENDAR
