BEGIN:VCALENDAR
VERSION:2.0
PRODID:SchoolNow
CALSCALE:GREGORIAN
BEGIN:VEVENT
UID:4362d726-82a1-11f0-9800-0affee066179
DTSTAMP:20251107T160656Z
SUMMARY:CDD Board Meeting - Nov. 2025
LOCATION:The Touchstone Clubhouse located 4205 Wild Senna Blvd\, Tampa\, Fl
  33619
URL;VALUE=URI:https://www.touchstonecdd.com/calendar/8545703/cdd-board-meet
 ing-nov-2025
DTSTART:20251111T130000Z
DTEND:20251111T140000Z
ATTACH;FILENAME=2025-11-11 - Touchstone CDD - Final Agenda.pdf;FMTTYPE=appl
 ication/pdf:https://campussuite-storage.s3.amazonaws.com/prod/1559236/3b4a
 d74a-8a5f-11ef-a2ac-0ef4d51c0acb/3033932/c465e47c-bbf3-11f0-bcd3-0affd0ed0
 8b3/file/2025-11-11 - Touchstone CDD - Final Agenda.pdf
END:VEVENT
END:VCALENDAR
