BEGIN:VCALENDAR
VERSION:2.0
PRODID:SchoolNow
CALSCALE:GREGORIAN
BEGIN:VEVENT
UID:4b9e0910-82a1-11f0-982d-0a58a9feac02
DTSTAMP:20251205T210809Z
SUMMARY:CDD Board Meeting - Dec. 2025
LOCATION:The Touchstone Clubhouse located 4205 Wild Senna Blvd\, Tampa\, Fl
  33619
URL;VALUE=URI:https://www.touchstonecdd.com/calendar/8545704/cdd-board-meet
 ing-dec-2025
DTSTART:20251209T130000Z
DTEND:20251209T140000Z
ATTACH;FILENAME=2025-12-09 - Touchstone CDD - Final Agenda.pdf;FMTTYPE=appl
 ication/pdf:https://campussuite-storage.s3.amazonaws.com/prod/1559236/3b4a
 d74a-8a5f-11ef-a2ac-0ef4d51c0acb/3048337/7d9a4934-d21e-11f0-ab8a-0a58a9fea
 c02/file/2025-12-09 - Touchstone CDD - Final Agenda.pdf
END:VEVENT
END:VCALENDAR
