BEGIN:VCALENDAR
VERSION:2.0
PRODID:SchoolNow
CALSCALE:GREGORIAN
BEGIN:VEVENT
UID:54c4d438-82a1-11f0-a793-025850da6195
DTSTAMP:20260106T202720Z
SUMMARY:CDD Board Meeting - Jan. 2026
LOCATION:The Touchstone Clubhouse located 4205 Wild Senna Blvd\, Tampa\, Fl
  33619
URL;VALUE=URI:https://www.touchstonecdd.com/calendar/8545705/cdd-board-meet
 ing-jan-2026
DTSTART:20260113T130000Z
DTEND:20260113T140000Z
ATTACH;FILENAME=2026-01-13 - Touchstone CDD - Final Agenda.pdf;FMTTYPE=appl
 ication/pdf:https://campussuite-storage.s3.amazonaws.com/prod/1559236/3b4a
 d74a-8a5f-11ef-a2ac-0ef4d51c0acb/3057381/0c3ae170-eb3e-11f0-876a-0a58a9fea
 c02/file/2026-01-13 - Touchstone CDD - Final Agenda.pdf
END:VEVENT
END:VCALENDAR
