BEGIN:VCALENDAR
VERSION:2.0
PRODID:SchoolNow
CALSCALE:GREGORIAN
BEGIN:VEVENT
UID:8a99a2fa-82a1-11f0-b36e-02b6ac64bda5
DTSTAMP:20250826T172437Z
SUMMARY:CDD Board Meeting - May 2026
LOCATION:The Touchstone Clubhouse located 4205 Wild Senna Blvd\, Tampa\, Fl
  33619
URL;VALUE=URI:https://www.touchstonecdd.com/calendar/8545709/cdd-board-meet
 ing-may-2026
DTSTART:20260512T120000Z
DTEND:20260512T130000Z
END:VEVENT
END:VCALENDAR
