BEGIN:VCALENDAR
VERSION:2.0
PRODID:SchoolNow
CALSCALE:GREGORIAN
BEGIN:VEVENT
UID:950a982a-82a1-11f0-a66c-02efef4a7877
DTSTAMP:20250826T172455Z
SUMMARY:CDD Board Meeting - Jun. 2026
LOCATION:The Touchstone Clubhouse located 4205 Wild Senna Blvd\, Tampa\, Fl
  33619
URL;VALUE=URI:https://www.touchstonecdd.com/calendar/8545710/cdd-board-meet
 ing-jun-2026
DTSTART:20260609T120000Z
DTEND:20260609T130000Z
END:VEVENT
END:VCALENDAR
