BEGIN:VCALENDAR
VERSION:2.0
PRODID:SchoolNow
CALSCALE:GREGORIAN
BEGIN:VEVENT
UID:9d5e4fda-82a1-11f0-9724-02efef4a7877
DTSTAMP:20250826T172509Z
SUMMARY:CDD Board Meeting - Jul. 2026
LOCATION:The Touchstone Clubhouse located 4205 Wild Senna Blvd\, Tampa\, Fl
  33619
URL;VALUE=URI:https://www.touchstonecdd.com/calendar/8545711/cdd-board-meet
 ing-jul-2026
DTSTART:20260714T120000Z
DTEND:20260714T130000Z
END:VEVENT
END:VCALENDAR
