BEGIN:VCALENDAR
VERSION:2.0
PRODID:SchoolNow
CALSCALE:GREGORIAN
BEGIN:VEVENT
UID:aa1d054a-82a1-11f0-9ddb-0affc1bf85c7
DTSTAMP:20250826T172530Z
SUMMARY:CDD Board Meeting - Aug. 2026
LOCATION:The Touchstone Clubhouse located 4205 Wild Senna Blvd\, Tampa\, Fl
  33619
URL;VALUE=URI:https://www.touchstonecdd.com/calendar/8545712/cdd-board-meet
 ing-aug-2026
DTSTART:20260811T120000Z
DTEND:20260811T130000Z
END:VEVENT
END:VCALENDAR
