BEGIN:VCALENDAR
VERSION:2.0
PRODID:SchoolNow
CALSCALE:GREGORIAN
BEGIN:VEVENT
UID:b38576bc-82a1-11f0-947b-0affc1bf85c7
DTSTAMP:20250826T172546Z
SUMMARY:CDD Board Meeting - Sept. 2026
LOCATION:The Touchstone Clubhouse located 4205 Wild Senna Blvd\, Tampa\, Fl
  33619
URL;VALUE=URI:https://www.touchstonecdd.com/calendar/8545713/cdd-board-meet
 ing-sept-2026
DTSTART:20260908T120000Z
DTEND:20260908T130000Z
END:VEVENT
END:VCALENDAR
